BEGIN:VCALENDAR
VERSION:2.0
PRODID:-//Melanie Schaffenroth - ECPv6.15.20//NONSGML v1.0//EN
CALSCALE:GREGORIAN
METHOD:PUBLISH
X-ORIGINAL-URL:https://melanie-schaffenroth.de
X-WR-CALDESC:Veranstaltungen für Melanie Schaffenroth
REFRESH-INTERVAL;VALUE=DURATION:PT1H
X-Robots-Tag:noindex
X-PUBLISHED-TTL:PT1H
BEGIN:VTIMEZONE
TZID:Europe/Berlin
BEGIN:DAYLIGHT
TZOFFSETFROM:+0100
TZOFFSETTO:+0200
TZNAME:CEST
DTSTART:20250330T010000
END:DAYLIGHT
BEGIN:STANDARD
TZOFFSETFROM:+0200
TZOFFSETTO:+0100
TZNAME:CET
DTSTART:20251026T010000
END:STANDARD
BEGIN:DAYLIGHT
TZOFFSETFROM:+0100
TZOFFSETTO:+0200
TZNAME:CEST
DTSTART:20260329T010000
END:DAYLIGHT
BEGIN:STANDARD
TZOFFSETFROM:+0200
TZOFFSETTO:+0100
TZNAME:CET
DTSTART:20261025T010000
END:STANDARD
BEGIN:DAYLIGHT
TZOFFSETFROM:+0100
TZOFFSETTO:+0200
TZNAME:CEST
DTSTART:20270328T010000
END:DAYLIGHT
BEGIN:STANDARD
TZOFFSETFROM:+0200
TZOFFSETTO:+0100
TZNAME:CET
DTSTART:20271031T010000
END:STANDARD
END:VTIMEZONE
BEGIN:VEVENT
DTSTART;TZID=Europe/Berlin:20260323T190000
DTEND;TZID=Europe/Berlin:20260323T220000
DTSTAMP:20260420T164824
CREATED:20260317T173402Z
LAST-MODIFIED:20260317T173551Z
UID:1047-1774292400-1774303200@melanie-schaffenroth.de
SUMMARY:Stammtisch mit Wahlnachlese
DESCRIPTION:Die Zornedinger Liberalen laden ein zur Wahlnachlese. Sie freuen sich mit Melanie Schaffenroth über das gute Ergebnis ihrer Bürgermeisterwahl sowie über den sehr guten Stimmenzuwachs bei der Gemeinderatswahl auf jetzt 11\,2 %. An diesem Abend wollen auch der Noch-Gemeinderat Peter Pernsteiner sowie der erneut gewählte Gemeinderat Siad Abdin-Bey über aktuelles aus dem Gemeinderat berichten. In der drei Tage später stattfindenden Sitzung geht es unter anderem um die Ganztagsbetreuung an unserer Grundschule und um den aktuellen Haushaltsplan mit einer Kreditaufnahme von wohl mehr als acht Millionen Euro. \nv.l.n.r: Siad Abdin-Bey\, Melanie Schaffenroth und Peter Pernsteiner von der FDP Zorneding\nDer Stammtisch ist beim Zornedinger Neuwirt\, Münchner Str. 4 ist am Montag\, den 23. März um 19 Uhr.
URL:https://melanie-schaffenroth.de/event/stammtisch-mit-wahlnachlese/
LOCATION:Hotel Gasthof Neuwirt\, Münchner Str. 4\, Zorneding\, 85604
ATTACH;FMTTYPE=image/jpeg:https://melanie-schaffenroth.de/wp-content/uploads/2026/03/Terminankuendigung-3er-Gruppe_3-DSC08298Original.jpg
END:VEVENT
END:VCALENDAR